BEGIN:VCALENDAR
VERSION:2.0
PRODID:icalendar-ruby
CALSCALE:GREGORIAN
METHOD:PUBLISH
BEGIN:VEVENT
DTSTAMP:20260419T194043Z
UID:78-842688@gracecamphill.org
DTSTART:20261004T130000Z
DTEND:20261004T133000Z
CLASS:PUBLIC
CREATED:20260419T130348
DESCRIPTION:Grace provides coffee hour Sunday mornings in the Library from 
 September - May. It runs from 9:00-9:30am before worship and from 10:00 - 
 10:30am after worship.   We do not hold Coffee Hour on Easter Sunday. 
LAST-MODIFIED:20260419T130348
LOCATION:Grace Evangelical Lutheran Church (1610 Carlisle Road\, Camp Hill)
SUMMARY:Coffee Hour
URL;VALUE=URI:https://www.gracecamphill.org/events/coffee-hour/2026-10-04
ATTACH;FILENAME=Coffee-Hour-%281%29.png;FMTTYPE=image/png:https://dq5pwpg1q
 8ru0.cloudfront.net/2025/08/11/15/18/35/75a73b55-247f-40a4-a03a-5b1686bfc4
 35/Coffee-Hour-%25281%2529.png
ATTACH;FILENAME=CC Online Schedule January - May 2026.pdf;FMTTYPE=applicati
 on/pdf:https://dq5pwpg1q8ru0.cloudfront.net/2025/12/16/17/04/25/5a8eb525-5
 c64-43bb-9bdd-1dd2df0047c8/CC%20Online%20Schedule%20January%20-%20May%2020
 26.pdf
END:VEVENT
END:VCALENDAR
