BEGIN:VCALENDAR
VERSION:2.0
PRODID:icalendar-ruby
CALSCALE:GREGORIAN
METHOD:PUBLISH
BEGIN:VEVENT
DTSTAMP:20260420T164022Z
UID:106-848163@gracecamphill.org
DTSTART:20261027T230000Z
DTEND:20261028T010000Z
CLASS:PUBLIC
CREATED:20260420T105436
DESCRIPTION:\n\n\n\n\n\nThe Cumberland Singers is a community choir of sopr
 ano &amp\; alto voices\, aiming to foster a sense of community through the
  performance of choral music. Our repertoire includes both secular and non
 -secular music\, familiar favorites\, and thought-provoking pieces. Rehear
 sals generally take place on Tuesdays from 7 to 9 PM at Grace Evangelical 
 Lutheran Church in Camp Hill. We welcome new members at the beginning of e
 ach concert season in September and January and offer free concerts in Dec
 ember and April. We also participate in other community events. We can't w
 ait for you to be a part of our community: whether it be as a member of ou
 r choir\, as a volunteer or as a member of our audience! \n \nWebsite: h
 ttps://www.thecumberlandsingers.org/\n\n\n
LAST-MODIFIED:20260420T105436
LOCATION:Grace Evangelical Lutheran Church (1610 Carlisle Road\, Camp Hill)
SUMMARY:Cumberland Singers Rehearsal
URL;VALUE=URI:https://www.gracecamphill.org/events/cumberland-singers-rehea
 rsal/2026-10-27
ATTACH;FILENAME=0fa981_69fb7af8165f43a7b164e9885b98a9d6mv2.jpg;FMTTYPE=imag
 e/jpeg:https://dq5pwpg1q8ru0.cloudfront.net/2026/02/02/15/50/23/1ec8585e-a
 be7-4963-92a2-def15b3ebf41/0fa981_69fb7af8165f43a7b164e9885b98a9d6mv2.jpg
END:VEVENT
END:VCALENDAR
