BEGIN:VCALENDAR
VERSION:2.0
PRODID:icalendar-ruby
CALSCALE:GREGORIAN
METHOD:PUBLISH
BEGIN:VEVENT
DTSTAMP:20260420T014640Z
UID:17-843838@gracecamphill.org
DTSTART:20261006T130000Z
DTEND:20261006T150000Z
CLASS:PUBLIC
CREATED:20260419T202805
DESCRIPTION:The quilters of Grace meet weekly for two hours (come and go an
 ytime during this time) to plan\, cut\, sew\, assemble and knot quilts for
  those locally in need as well as to Lutheran World Relief.  All are invi
 ted to join this ministry\,  no experience needed.    There is an eleva
 tor to access the church basement if needed. 
LAST-MODIFIED:20260419T202805
LOCATION:Grace Evangelical Lutheran Church (1610 Carlisle Road\, Camp Hill)
SUMMARY:Quilting Ministry
URL;VALUE=URI:https://www.gracecamphill.org/events/quilting-ministry/2026-1
 0-06
ATTACH;FILENAME=Grace%27s-Quilting-Ministry-for-website.png;FMTTYPE=image/p
 ng:https://dq5pwpg1q8ru0.cloudfront.net/2025/07/30/15/43/52/de304f2a-6d35-
 4d24-8e85-01dddaed63af/Grace%2527s-Quilting-Ministry-for-website.png
END:VEVENT
END:VCALENDAR
