BEGIN:VCALENDAR
VERSION:2.0
PRODID:icalendar-ruby
CALSCALE:GREGORIAN
METHOD:PUBLISH
BEGIN:VEVENT
DTSTAMP:20260419T233815Z
UID:62-843426@gracecamphill.org
DTSTART:20261019T230000Z
DTEND:20261020T000000Z
CLASS:PUBLIC
CREATED:20260419T164603
DESCRIPTION:
LAST-MODIFIED:20260419T164603
LOCATION:Grace Evangelical Lutheran Church (1610 Carlisle Road\, Camp Hill)
SUMMARY:Scout Troop 54 & Cub Scout Pack 54
URL;VALUE=URI:https://www.gracecamphill.org/events/scout-troop-54-cub-scout
 -pack-54/2026-10-19
ATTACH;FILENAME=IMG_1149.jpeg;FMTTYPE=image/jpeg:https://dq5pwpg1q8ru0.clou
 dfront.net/2025/08/06/13/16/32/d53c3996-6573-4259-bc61-e26fede3c323/IMG_11
 49.jpeg
END:VEVENT
END:VCALENDAR
